BEGIN:VCALENDAR
VERSION:2.0
PRODID:-//Cobb County Beekeepers&#039;  Club - ECPv6.15.17//NONSGML v1.0//EN
CALSCALE:GREGORIAN
METHOD:PUBLISH
X-WR-CALNAME:Cobb County Beekeepers&#039;  Club
X-ORIGINAL-URL:https://cobbcountybees.com
X-WR-CALDESC:Events for Cobb County Beekeepers&#039;  Club
REFRESH-INTERVAL;VALUE=DURATION:PT1H
X-Robots-Tag:noindex
X-PUBLISHED-TTL:PT1H
BEGIN:VTIMEZONE
TZID:UTC
BEGIN:STANDARD
TZOFFSETFROM:+0000
TZOFFSETTO:+0000
TZNAME:UTC
DTSTART:20240101T000000
END:STANDARD
END:VTIMEZONE
BEGIN:VEVENT
DTSTART;TZID=UTC:20260616T183000
DTEND;TZID=UTC:20260616T200000
DTSTAMP:20260422T224110
CREATED:20260117T183919Z
LAST-MODIFIED:20260117T183919Z
UID:716-1781634600-1781640000@cobbcountybees.com
SUMMARY:Monthly Meeting
DESCRIPTION:
URL:https://cobbcountybees.com/event/monthly-meeting-12
LOCATION:Elevation Chop House\, 1723 McCollum Parkway NW\, Kennesaw\, GA\, 30144\, United States
CATEGORIES:Monthly Meetings
END:VEVENT
BEGIN:VEVENT
DTSTART;TZID=UTC:20260519T183000
DTEND;TZID=UTC:20260519T200000
DTSTAMP:20260422T224110
CREATED:20260117T183841Z
LAST-MODIFIED:20260117T183841Z
UID:714-1779215400-1779220800@cobbcountybees.com
SUMMARY:Monthly Meeting
DESCRIPTION:
URL:https://cobbcountybees.com/event/monthly-meeting-11
LOCATION:Elevation Chop House\, 1723 McCollum Parkway NW\, Kennesaw\, GA\, 30144\, United States
CATEGORIES:Monthly Meetings
END:VEVENT
BEGIN:VEVENT
DTSTART;TZID=UTC:20260421T183000
DTEND;TZID=UTC:20260421T200000
DTSTAMP:20260422T224110
CREATED:20260117T183757Z
LAST-MODIFIED:20260117T183757Z
UID:712-1776796200-1776801600@cobbcountybees.com
SUMMARY:Monthly Meeting
DESCRIPTION:
URL:https://cobbcountybees.com/event/monthly-meeting-10
LOCATION:Elevation Chop House\, 1723 McCollum Parkway NW\, Kennesaw\, GA\, 30144\, United States
CATEGORIES:Monthly Meetings
END:VEVENT
BEGIN:VEVENT
DTSTART;TZID=UTC:20260317T183000
DTEND;TZID=UTC:20260317T200000
DTSTAMP:20260422T224110
CREATED:20260117T182549Z
LAST-MODIFIED:20260117T183701Z
UID:702-1773772200-1773777600@cobbcountybees.com
SUMMARY:Monthly Meeting
DESCRIPTION:
URL:https://cobbcountybees.com/event/monthly-meeting-9
LOCATION:Elevation Chop House\, 1723 McCollum Parkway NW\, Kennesaw\, GA\, 30144\, United States
CATEGORIES:Monthly Meetings
END:VEVENT
BEGIN:VEVENT
DTSTART;VALUE=DATE:20260228
DTEND;VALUE=DATE:20260301
DTSTAMP:20260422T224110
CREATED:20260110T230302Z
LAST-MODIFIED:20260117T153430Z
UID:487-1772236800-1772323199@cobbcountybees.com
SUMMARY:Bee College
DESCRIPTION:We will Be hosting Bee college Feb 28 2026. We have many great speakers and classes for all levels. \n$25 For Non Members \n$15 For Members \nLunch is included \nRegistration is opening soon \n 
URL:https://cobbcountybees.com/event/bee-college
LOCATION:GA
END:VEVENT
BEGIN:VEVENT
DTSTART;TZID=UTC:20260121T183000
DTEND;TZID=UTC:20260121T200000
DTSTAMP:20260422T224110
CREATED:20260117T182312Z
LAST-MODIFIED:20260117T182312Z
UID:696-1769020200-1769025600@cobbcountybees.com
SUMMARY:Meeting
DESCRIPTION:
URL:https://cobbcountybees.com/event/meeting
LOCATION:Elevation Chop House\, 1723 McCollum Parkway NW\, Kennesaw\, GA\, 30144\, United States
CATEGORIES:Monthly Meetings
END:VEVENT
BEGIN:VEVENT
DTSTART;TZID=UTC:20251216T183000
DTEND;TZID=UTC:20251216T200000
DTSTAMP:20260422T224110
CREATED:20250522T203452Z
LAST-MODIFIED:20250522T203452Z
UID:418-1765909800-1765915200@cobbcountybees.com
SUMMARY:Monthly Meeting
DESCRIPTION:Mentoring time begins at 6:30 pm \nPresentation begins at 7:00 pm
URL:https://cobbcountybees.com/event/monthly-meeting-7
LOCATION:Elevation Chop House\, 1723 McCollum Parkway NW\, Kennesaw\, GA\, 30144\, United States
CATEGORIES:Monthly Meetings
ATTACH;FMTTYPE=image/png:https://cobbcountybees.com/wp-content/uploads/2024/09/Logo.png
END:VEVENT
BEGIN:VEVENT
DTSTART;TZID=UTC:20251118T183000
DTEND;TZID=UTC:20251118T200000
DTSTAMP:20260422T224110
CREATED:20250522T203347Z
LAST-MODIFIED:20250522T203347Z
UID:416-1763490600-1763496000@cobbcountybees.com
SUMMARY:Monthly Meeting
DESCRIPTION:Mentoring time begins at 6:30 pm \nPresentation begins at 7:00 pm
URL:https://cobbcountybees.com/event/monthly-meeting-6
LOCATION:Elevation Chop House\, 1723 McCollum Parkway NW\, Kennesaw\, GA\, 30144\, United States
CATEGORIES:Monthly Meetings
ATTACH;FMTTYPE=image/png:https://cobbcountybees.com/wp-content/uploads/2024/09/Logo.png
END:VEVENT
BEGIN:VEVENT
DTSTART;TZID=UTC:20251021T183000
DTEND;TZID=UTC:20251021T200000
DTSTAMP:20260422T224110
CREATED:20250522T202936Z
LAST-MODIFIED:20250522T203248Z
UID:410-1761071400-1761076800@cobbcountybees.com
SUMMARY:Monthly Meeting
DESCRIPTION:Mentoring time begins at 6:30 pm \nPresentation begins at 7:00 pm
URL:https://cobbcountybees.com/event/monthly-meeting-3
LOCATION:Elevation Chop House\, 1723 McCollum Parkway NW\, Kennesaw\, GA\, 30144\, United States
CATEGORIES:Monthly Meetings
ATTACH;FMTTYPE=image/png:https://cobbcountybees.com/wp-content/uploads/2024/09/Logo.png
END:VEVENT
BEGIN:VEVENT
DTSTART;TZID=UTC:20250916T183000
DTEND;TZID=UTC:20250916T200000
DTSTAMP:20260422T224110
CREATED:20250522T203120Z
LAST-MODIFIED:20250522T203152Z
UID:414-1758047400-1758052800@cobbcountybees.com
SUMMARY:Monthly Meeting
DESCRIPTION:Mentoring time begins at 6:30 pm \nPresentation begins at 7:00 pm
URL:https://cobbcountybees.com/event/monthly-meeting-5
LOCATION:Elevation Chop House\, 1723 McCollum Parkway NW\, Kennesaw\, GA\, 30144\, United States
CATEGORIES:Monthly Meetings
ATTACH;FMTTYPE=image/png:https://cobbcountybees.com/wp-content/uploads/2024/09/Logo.png
END:VEVENT
BEGIN:VEVENT
DTSTART;TZID=UTC:20250819T183000
DTEND;TZID=UTC:20250819T200000
DTSTAMP:20260422T224110
CREATED:20250522T203028Z
LAST-MODIFIED:20250522T203028Z
UID:412-1755628200-1755633600@cobbcountybees.com
SUMMARY:Monthly Meeting
DESCRIPTION:Mentoring time begins at 6:30 pm \nPresentation begins at 7:00 pm
URL:https://cobbcountybees.com/event/monthly-meeting-4
LOCATION:Elevation Chop House\, 1723 McCollum Parkway NW\, Kennesaw\, GA\, 30144\, United States
CATEGORIES:Monthly Meetings
ATTACH;FMTTYPE=image/png:https://cobbcountybees.com/wp-content/uploads/2024/09/Logo.png
END:VEVENT
BEGIN:VEVENT
DTSTART;TZID=UTC:20250715T183000
DTEND;TZID=UTC:20250715T200000
DTSTAMP:20260422T224110
CREATED:20250522T202843Z
LAST-MODIFIED:20250522T202843Z
UID:408-1752604200-1752609600@cobbcountybees.com
SUMMARY:Monthly Meeting
DESCRIPTION:Mentoring time begins at 6:30 pm \nPresentation begins at 7:00 pm
URL:https://cobbcountybees.com/event/monthly-meeting-2
LOCATION:Elevation Chop House\, 1723 McCollum Parkway NW\, Kennesaw\, GA\, 30144\, United States
CATEGORIES:Monthly Meetings
ATTACH;FMTTYPE=image/png:https://cobbcountybees.com/wp-content/uploads/2024/09/Logo.png
END:VEVENT
BEGIN:VEVENT
DTSTART;TZID=UTC:20250617T183000
DTEND;TZID=UTC:20250617T200000
DTSTAMP:20260422T224110
CREATED:20250522T202713Z
LAST-MODIFIED:20250522T202740Z
UID:405-1750185000-1750190400@cobbcountybees.com
SUMMARY:Monthly Meeting
DESCRIPTION:Mentoring time begins at 6:30 pm \nPresentation begins at 7:00 pm
URL:https://cobbcountybees.com/event/monthly-meeting
LOCATION:Elevation Chop House\, 1723 McCollum Parkway NW\, Kennesaw\, GA\, 30144\, United States
CATEGORIES:Monthly Meetings
ATTACH;FMTTYPE=image/png:https://cobbcountybees.com/wp-content/uploads/2024/09/Logo.png
END:VEVENT
BEGIN:VEVENT
DTSTART;TZID=UTC:20250218T183000
DTEND;TZID=UTC:20250218T200000
DTSTAMP:20260422T224110
CREATED:20250130T135250Z
LAST-MODIFIED:20250130T135250Z
UID:377-1739903400-1739908800@cobbcountybees.com
SUMMARY:February Meeting
DESCRIPTION:Elevation Chop House 1723 McCollum Parkway NW\, Kennesaw
URL:https://cobbcountybees.com/event/february-meeting
LOCATION:Elevation Chop House\, 1723 McCollum Parkway NW\, Kennesaw\, GA\, 30144\, United States
CATEGORIES:Monthly Meetings
END:VEVENT
BEGIN:VEVENT
DTSTART;TZID=UTC:20250121T183000
DTEND;TZID=UTC:20250121T203000
DTSTAMP:20260422T224110
CREATED:20240926T154042Z
LAST-MODIFIED:20240926T154049Z
UID:64-1737484200-1737491400@cobbcountybees.com
SUMMARY:First Meeting
DESCRIPTION:Join fellow beeks at the first meeting of the Cobb County Beekeepers’ Club
URL:https://cobbcountybees.com/event/first-meeting
LOCATION:Elevation Chop House\, 1723 McCollum Parkway NW\, Kennesaw\, GA\, 30144\, United States
CATEGORIES:Monthly Meetings
END:VEVENT
END:VCALENDAR