BEGIN:VCALENDAR
VERSION:2.0
PRODID:-//Cobb County Beekeepers&#039;  Club - ECPv6.15.17//NONSGML v1.0//EN
CALSCALE:GREGORIAN
METHOD:PUBLISH
X-WR-CALNAME:Cobb County Beekeepers&#039;  Club
X-ORIGINAL-URL:https://cobbcountybees.com
X-WR-CALDESC:Events for Cobb County Beekeepers&#039;  Club
REFRESH-INTERVAL;VALUE=DURATION:PT1H
X-Robots-Tag:noindex
X-PUBLISHED-TTL:PT1H
BEGIN:VTIMEZONE
TZID:UTC
BEGIN:STANDARD
TZOFFSETFROM:+0000
TZOFFSETTO:+0000
TZNAME:UTC
DTSTART:20240101T000000
END:STANDARD
END:VTIMEZONE
BEGIN:VEVENT
DTSTART;TZID=UTC:20250819T183000
DTEND;TZID=UTC:20250819T200000
DTSTAMP:20260422T224317
CREATED:20250522T203028Z
LAST-MODIFIED:20250522T203028Z
UID:412-1755628200-1755633600@cobbcountybees.com
SUMMARY:Monthly Meeting
DESCRIPTION:Mentoring time begins at 6:30 pm \nPresentation begins at 7:00 pm
URL:https://cobbcountybees.com/event/monthly-meeting-4
LOCATION:Elevation Chop House\, 1723 McCollum Parkway NW\, Kennesaw\, GA\, 30144\, United States
CATEGORIES:Monthly Meetings
ATTACH;FMTTYPE=image/png:https://cobbcountybees.com/wp-content/uploads/2024/09/Logo.png
END:VEVENT
BEGIN:VEVENT
DTSTART;TZID=UTC:20250715T183000
DTEND;TZID=UTC:20250715T200000
DTSTAMP:20260422T224317
CREATED:20250522T202843Z
LAST-MODIFIED:20250522T202843Z
UID:408-1752604200-1752609600@cobbcountybees.com
SUMMARY:Monthly Meeting
DESCRIPTION:Mentoring time begins at 6:30 pm \nPresentation begins at 7:00 pm
URL:https://cobbcountybees.com/event/monthly-meeting-2
LOCATION:Elevation Chop House\, 1723 McCollum Parkway NW\, Kennesaw\, GA\, 30144\, United States
CATEGORIES:Monthly Meetings
ATTACH;FMTTYPE=image/png:https://cobbcountybees.com/wp-content/uploads/2024/09/Logo.png
END:VEVENT
BEGIN:VEVENT
DTSTART;TZID=UTC:20250617T183000
DTEND;TZID=UTC:20250617T200000
DTSTAMP:20260422T224317
CREATED:20250522T202713Z
LAST-MODIFIED:20250522T202740Z
UID:405-1750185000-1750190400@cobbcountybees.com
SUMMARY:Monthly Meeting
DESCRIPTION:Mentoring time begins at 6:30 pm \nPresentation begins at 7:00 pm
URL:https://cobbcountybees.com/event/monthly-meeting
LOCATION:Elevation Chop House\, 1723 McCollum Parkway NW\, Kennesaw\, GA\, 30144\, United States
CATEGORIES:Monthly Meetings
ATTACH;FMTTYPE=image/png:https://cobbcountybees.com/wp-content/uploads/2024/09/Logo.png
END:VEVENT
BEGIN:VEVENT
DTSTART;TZID=UTC:20250218T183000
DTEND;TZID=UTC:20250218T200000
DTSTAMP:20260422T224317
CREATED:20250130T135250Z
LAST-MODIFIED:20250130T135250Z
UID:377-1739903400-1739908800@cobbcountybees.com
SUMMARY:February Meeting
DESCRIPTION:Elevation Chop House 1723 McCollum Parkway NW\, Kennesaw
URL:https://cobbcountybees.com/event/february-meeting
LOCATION:Elevation Chop House\, 1723 McCollum Parkway NW\, Kennesaw\, GA\, 30144\, United States
CATEGORIES:Monthly Meetings
END:VEVENT
BEGIN:VEVENT
DTSTART;TZID=UTC:20250121T183000
DTEND;TZID=UTC:20250121T203000
DTSTAMP:20260422T224317
CREATED:20240926T154042Z
LAST-MODIFIED:20240926T154049Z
UID:64-1737484200-1737491400@cobbcountybees.com
SUMMARY:First Meeting
DESCRIPTION:Join fellow beeks at the first meeting of the Cobb County Beekeepers’ Club
URL:https://cobbcountybees.com/event/first-meeting
LOCATION:Elevation Chop House\, 1723 McCollum Parkway NW\, Kennesaw\, GA\, 30144\, United States
CATEGORIES:Monthly Meetings
END:VEVENT
END:VCALENDAR